BEGIN:VCALENDAR
VERSION:2.0
PRODID:-//InvisionCommunity Events 4.7.23//EN
METHOD:PUBLISH
CALSCALE:GREGORIAN
REFRESH-INTERVAL:PT15M
X-PUBLISHED-TTL:PT15M
X-WR-CALNAME:Community Calendar
NAME:Community Calendar
BEGIN:VTIMEZONE
TZID:Europe/London
TZURL:http://tzurl.org/zoneinfo/Europe/London
X-LIC-LOCATION:Europe/London
BEGIN:DAYLIGHT
TZOFFSETFROM:+0000
TZOFFSETTO:+0100
TZNAME:BST
DTSTART:20190331T020000Z
RRULE:FREQ=YEARLY;BYMONTH=3;BYDAY=-1SU
END:DAYLIGHT
BEGIN:STANDARD
TZOFFSETFROM:+0100
TZOFFSETTO:+0000
TZNAME:GMT
DTSTART:20191027T020000Z
RRULE:FREQ=YEARLY;BYMONTH=10;BYDAY=-1SU
END:STANDARD
END:VTIMEZONE
BEGIN:VEVENT
SUMMARY:Queen City Anime Con 2019
DTSTAMP:20190302T025816Z
SEQUENCE:0
UID:3-1-a0ea73ba510588a5fd27992ae3ec2bb1@hvanime.com
ORGANIZER;CN="vash":info@hvanime.com
DESCRIPTION:\n\n	\n\n\n	 \n\n\n\n	Queen City Anime Convention is a 3-da
	y anime convention in the heart of Charlotte\, North Carolina.\n\n\n\n	 \
	n\n\n\n	Info\n\n\n\n	Queen City Anime Convention will be a three-day event
	 in Charlotte\, NC from August 9th to August 11th\, 2019. Queen City Anime
	 Convention will feature a cosplay contest\, an anime marketplace\, fan p
	rogramming\, a video game room with tournaments\, and more!\n\n\n\n	ADMISS
	ION:\n\n\n\n	Pre Registration:\n\n\n\n	4 Day Badge: $40\n\n\n\n	At the Doo
	r:\n\n\n\n	4 Day Badge: $50\n\n\n\n	Friday Only: $20\n\n\n\n	Saturday: $20
	\n\n\n\n	Sunday: $15\n\n\n\n	HOTEL:\n\n\n\n	Queen City Anime Convention wi
	ll be hosted at beautiful Sheraton Charlotte Hotel located at 555 McDowell
	 St.\, Charlotte\, NC. \n\n
DTSTART:20190809T220000Z
DTEND:20190811T040000Z
END:VEVENT
END:VCALENDAR
